BEGIN:VCALENDAR
VERSION:2.0
PRODID:-//LWV of Rockland County - ECPv6.15.20//NONSGML v1.0//EN
CALSCALE:GREGORIAN
METHOD:PUBLISH
X-WR-CALNAME:LWV of Rockland County
X-ORIGINAL-URL:https://lwvrocklandcounty.org
X-WR-CALDESC:Events for LWV of Rockland County
REFRESH-INTERVAL;VALUE=DURATION:PT1H
X-Robots-Tag:noindex
X-PUBLISHED-TTL:PT1H
BEGIN:VTIMEZONE
TZID:America/New_York
BEGIN:DAYLIGHT
TZOFFSETFROM:-0500
TZOFFSETTO:-0400
TZNAME:EDT
DTSTART:20210314T070000
END:DAYLIGHT
BEGIN:STANDARD
TZOFFSETFROM:-0400
TZOFFSETTO:-0500
TZNAME:EST
DTSTART:20211107T060000
END:STANDARD
BEGIN:DAYLIGHT
TZOFFSETFROM:-0500
TZOFFSETTO:-0400
TZNAME:EDT
DTSTART:20220313T070000
END:DAYLIGHT
BEGIN:STANDARD
TZOFFSETFROM:-0400
TZOFFSETTO:-0500
TZNAME:EST
DTSTART:20221106T060000
END:STANDARD
BEGIN:DAYLIGHT
TZOFFSETFROM:-0500
TZOFFSETTO:-0400
TZNAME:EDT
DTSTART:20230312T070000
END:DAYLIGHT
BEGIN:STANDARD
TZOFFSETFROM:-0400
TZOFFSETTO:-0500
TZNAME:EST
DTSTART:20231105T060000
END:STANDARD
BEGIN:DAYLIGHT
TZOFFSETFROM:-0500
TZOFFSETTO:-0400
TZNAME:EDT
DTSTART:20240310T070000
END:DAYLIGHT
BEGIN:STANDARD
TZOFFSETFROM:-0400
TZOFFSETTO:-0500
TZNAME:EST
DTSTART:20241103T060000
END:STANDARD
BEGIN:DAYLIGHT
TZOFFSETFROM:-0500
TZOFFSETTO:-0400
TZNAME:EDT
DTSTART:20250309T070000
END:DAYLIGHT
BEGIN:STANDARD
TZOFFSETFROM:-0400
TZOFFSETTO:-0500
TZNAME:EST
DTSTART:20251102T060000
END:STANDARD
END:VTIMEZONE
BEGIN:VEVENT
DTSTART;TZID=America/New_York:20241114T150000
DTEND;TZID=America/New_York:20241114T160000
DTSTAMP:20260419T192213
CREATED:20241015T201646Z
LAST-MODIFIED:20241016T184711Z
UID:4428-1731596400-1731600000@lwvrocklandcounty.org
SUMMARY:GROUP 3 – ROSTER MANAGERS
DESCRIPTION:Includes adding members & officers\, updating current information.\nNovember Transformation Training Calendar\n\n 
URL:https://lwvrocklandcounty.org/events/group-3-roster-managers/
END:VEVENT
BEGIN:VEVENT
DTSTART;TZID=America/New_York:20241113T120000
DTEND;TZID=America/New_York:20241113T130000
DTSTAMP:20260419T192213
CREATED:20241015T202821Z
LAST-MODIFIED:20241016T184843Z
UID:4432-1731499200-1731502800@lwvrocklandcounty.org
SUMMARY:GROUP 4 – WEBMASTERS
DESCRIPTION:Includes setting up ChapterSpot website and adding link to Chapter Sport from current website.\nNovember Transformation Training Calendar\n\n 
URL:https://lwvrocklandcounty.org/events/group-4-webmasters/
END:VEVENT
BEGIN:VEVENT
DTSTART;TZID=America/New_York:20241112T150000
DTEND;TZID=America/New_York:20241112T160000
DTSTAMP:20260419T192213
CREATED:20241015T204055Z
LAST-MODIFIED:20241016T184959Z
UID:4440-1731423600-1731427200@lwvrocklandcounty.org
SUMMARY:GROUP 5  - OVERVIEW
DESCRIPTION:Includes overall ChapterSpot set up requirements and sending emails through ChapterSpot.\nNovember Transformation Training Calendar\n\n 
URL:https://lwvrocklandcounty.org/events/group-5-overview/
END:VEVENT
BEGIN:VEVENT
DTSTART;TZID=America/New_York:20241111T180000
DTEND;TZID=America/New_York:20241111T190000
DTSTAMP:20260419T192213
CREATED:20241015T183456Z
LAST-MODIFIED:20241016T184420Z
UID:4409-1731348000-1731351600@lwvrocklandcounty.org
SUMMARY:GROUP 1 – MEMBERSHIP CHAIRS
DESCRIPTION:Includes following up with renewing members\, signing up/ logging-in\, helping troubleshoot & adding questions.\nNovember Transformation Training Calendar\n\n 
URL:https://lwvrocklandcounty.org/events/group-1-membership-chairs/
END:VEVENT
BEGIN:VEVENT
DTSTART;TZID=America/New_York:20241013T140000
DTEND;TZID=America/New_York:20241013T160000
DTSTAMP:20260419T192213
CREATED:20240905T162940Z
LAST-MODIFIED:20241001T164548Z
UID:4357-1728828000-1728835200@lwvrocklandcounty.org
SUMMARY:Candidates Debate
DESCRIPTION:Location: Ramapo Town Hall\n237 Route 59\nSuffern\, NY 10901 \n\nFlyer: more details\nLWVRC Candidate debate ground rules
URL:https://lwvrocklandcounty.org/events/candidates-forum/
END:VEVENT
BEGIN:VEVENT
DTSTART;VALUE=DATE:20240917
DTEND;VALUE=DATE:20240918
DTSTAMP:20260419T192213
CREATED:20240905T161553Z
LAST-MODIFIED:20240905T162716Z
UID:4351-1726531200-1726617599@lwvrocklandcounty.org
SUMMARY:National Voter Registration Day
DESCRIPTION:VOTER REGISTRATION TABLES\n \nRockland Community College:  LWVRC registering table\nDominican University: Student registering table\nSt. Thomas Aquinas College: Student registering table \n 
URL:https://lwvrocklandcounty.org/events/national-voter-registration-day-2/
END:VEVENT
BEGIN:VEVENT
DTSTART;TZID=America/New_York:20240907T113000
DTEND;TZID=America/New_York:20240907T113000
DTSTAMP:20260419T192213
CREATED:20240905T142357Z
LAST-MODIFIED:20240905T165438Z
UID:4336-1725708600-1725708600@lwvrocklandcounty.org
SUMMARY:General Meeting
DESCRIPTION:WHERE:  \nNew City Library\nHigh Tor Room\n220 N. Main St. \nFeatured Speaker: Former NY State Assemblyman Kenneth Zebrowski \n\nHelp us kick off the 2024-2025 League Year! Learn about the ways you can become involved\, meet new friends\, make a difference.\nBring others who may be interested in joining us. Call 845-709-8243 for more details.
URL:https://lwvrocklandcounty.org/events/general-meeting/
END:VEVENT
BEGIN:VEVENT
DTSTART;TZID=America/New_York:20240905T130000
DTEND;TZID=America/New_York:20240905T170000
DTSTAMP:20260419T192213
CREATED:20240905T162152Z
LAST-MODIFIED:20240905T201619Z
UID:4354-1725541200-1725555600@lwvrocklandcounty.org
SUMMARY:Haverstraw Food Crawl & Voter Registration
DESCRIPTION:Haverstraw NY Food Crawl – NY Food Festival – NY Beer Garden — Haverstraw Riverwide Arts \nVoter Registration Location: LWVRC registering table
URL:https://lwvrocklandcounty.org/events/haverstraw-voter-registration/
END:VEVENT
BEGIN:VEVENT
DTSTART;VALUE=DATE:20240905
DTEND;VALUE=DATE:20240906
DTSTAMP:20260419T192213
CREATED:20240905T163518Z
LAST-MODIFIED:20240905T172545Z
UID:4360-1725494400-1725580799@lwvrocklandcounty.org
SUMMARY:Youthfest
DESCRIPTION:Location: RCC Fieldhouse
URL:https://lwvrocklandcounty.org/events/youthfest/
END:VEVENT
BEGIN:VEVENT
DTSTART;TZID=America/New_York:20240418T110000
DTEND;TZID=America/New_York:20240418T140000
DTSTAMP:20260419T192213
CREATED:20240326T175823Z
LAST-MODIFIED:20240326T180258Z
UID:4240-1713438000-1713448800@lwvrocklandcounty.org
SUMMARY:Voter Registration
DESCRIPTION:Venue: Rockland Community College\nDate: Thursday\, April 18\, 2024\nTime: 11:00 am – 2:00 pm
URL:https://lwvrocklandcounty.org/events/voter-registration/
LOCATION:Rockland Community College
END:VEVENT
BEGIN:VEVENT
DTSTART;TZID=America/New_York:20240323T140000
DTEND;TZID=America/New_York:20240323T160000
DTSTAMP:20260419T192213
CREATED:20240217T175351Z
LAST-MODIFIED:20240217T212135Z
UID:4219-1711202400-1711209600@lwvrocklandcounty.org
SUMMARY:AAUW - LWV The Power of Women's Vote
DESCRIPTION:THE POWER OF WOMEN’S VOTE\nIn celebration of Women’s History Month\nPresented by the Rockland County Branch of AAUW & LWV \nDate: Saturday\, March 23\, 2024\nTime: 2:00 pm – 4:00 pm\nZoom Registration or Scan QR Code on Flyer Below
URL:https://lwvrocklandcounty.org/events/aauw-lwv-the-power-of-womens-vote/
END:VEVENT
BEGIN:VEVENT
DTSTART;TZID=America/New_York:20240229T180000
DTEND;TZID=America/New_York:20240229T200000
DTSTAMP:20260419T192213
CREATED:20240207T130033Z
LAST-MODIFIED:20240209T222057Z
UID:4168-1709229600-1709236800@lwvrocklandcounty.org
SUMMARY:AAUW Vote ERA NY Now
DESCRIPTION:VOTE ERA NY NOW\nPresented by Erika Smitka\nDeputy Director\, LWV-NYS\n \nJoin the discussion\nEvent Details \n\n Date:  Thursday\, February 29\, 2024\nTime: 6:00 pm – 8:00 pm\nVenue: Zoom (check back for details)
URL:https://lwvrocklandcounty.org/events/vote-era-ny-now/
LOCATION:Zoom
END:VEVENT
BEGIN:VEVENT
DTSTART;TZID=America/New_York:20240224T100000
DTEND;TZID=America/New_York:20240224T130000
DTSTAMP:20260419T192213
CREATED:20240209T193118Z
LAST-MODIFIED:20240210T185235Z
UID:4179-1708768800-1708779600@lwvrocklandcounty.org
SUMMARY:AAUW 24th Annual Diversity Brunch
DESCRIPTION:24th ANNUAL DIVERSITY BRUNCH\nAn intimate discussion with Rockland’s ALL FEMALE super majority politicians\n \nDate:  Saturday\, February 24\, 2024\nTime: 10:00 am – 1:00 pm\nLocation: Pilgrim Baptist Church\n80 North Franklin St.\nNyack\, NY 10960\nCost: $35.00\nRegister: Scan QR code on Flyer (Below) \n \n  \n  \n 
URL:https://lwvrocklandcounty.org/events/eeuw-24th-annual-diversity-brunch/
LOCATION:Pilgrim Baptist Church\, 80 North Franklin St.\, Nyack\, NY 10960
END:VEVENT
BEGIN:VEVENT
DTSTART;TZID=America/New_York:20231210T130000
DTEND;TZID=America/New_York:20231210T150000
DTSTAMP:20260419T192213
CREATED:20231121T161156Z
LAST-MODIFIED:20231121T161156Z
UID:4155-1702213200-1702220400@lwvrocklandcounty.org
SUMMARY:Fundraiser & Luncheon
DESCRIPTION:FUNDRAISER & LUNCHEON \nJoin us for food\, fundraiser & fun!\nEvent Details \n\n Date:  Sunday\, December 10\, 2023\nTime: 1:00 PM to 3:00 PM\nLocation:\nBanchetto Restaurant\n75 W. Rt. 59 & Middletown Road\nNanuet\, NY
URL:https://lwvrocklandcounty.org/events/fundraiser-luncheon/
END:VEVENT
BEGIN:VEVENT
DTSTART;TZID=America/New_York:20231119T110000
DTEND;TZID=America/New_York:20231119T150000
DTSTAMP:20260419T192213
CREATED:20231024T180000Z
LAST-MODIFIED:20231121T154420Z
UID:4148-1700391600-1700406000@lwvrocklandcounty.org
SUMMARY:Voter Information & Registration
DESCRIPTION:Rockland County Youthfest\nRCLWV will have a voter information and registration table set up at the Rockland County Youthfest. There will be interactive activities for the youth in attendance as well as the voter information for people over 18.\n \n\nDate:  Sunday\, November 19\, 2023\nTime: 11:00 AM to 3:00 PM\nLocation: Rockland Community College – Field House\n\n*LWV and all Co-sponsors are non-partisan.  \nAn educated voter makes good decisions. Come and learn more about your local elections. Your Vote is your Voice!
URL:https://lwvrocklandcounty.org/events/voter-information-registration-2/
END:VEVENT
BEGIN:VEVENT
DTSTART;TZID=America/New_York:20231105T133000
DTEND;TZID=America/New_York:20231105T163000
DTSTAMP:20260419T192213
CREATED:20231024T175719Z
LAST-MODIFIED:20231024T175719Z
UID:4146-1699191000-1699201800@lwvrocklandcounty.org
SUMMARY:Voter Information & Registration
DESCRIPTION:A partnership with ICHAA (Indian Cultural and Arts Awareness Club) and RCLWV (Rockland County LWV).\nWe will have a voter information and registration table set up at their Indian Heritage Celebration for Kerala Piravi & Diwali. \n\nDate:  Sunday\, November 5\, 2023\nTime: 1:30 to 4:30 pm\nLocation:\nPalisades Center Mall  – Inside the mall near H &M (by the Macy’s side)\n1240 Palisades Center Dr.\nWest Nyack\, NY 10994\n\n*LWV and all Co-sponsors are non-partisan.  \nAn educated voter makes good decisions. Come and learn more about your local elections. Your Vote is your Voice!
URL:https://lwvrocklandcounty.org/events/voter-information-registration/
END:VEVENT
BEGIN:VEVENT
DTSTART;VALUE=DATE:20231022
DTEND;VALUE=DATE:20231023
DTSTAMP:20260419T192213
CREATED:20230912T151849Z
LAST-MODIFIED:20231013T191923Z
UID:4112-1697932800-1698019199@lwvrocklandcounty.org
SUMMARY:Candidates Forum
DESCRIPTION:CANDIDATE FORUM FLYER \nAddress: \nJCC ROCKLAND\n450 West Nyack Road\nWest Nyack\, NY 10994 \nDebates & Event\n \n\n2-2:30 PM: Debate for Clarkstown Town Supervisor\nJustin Sweet Vs. George Hoehmann\n\n\n3-4 PM: Candidates Fair for The Rockland County\nLegislative District Candidates\n\n*LWV and all Co-sponsors are non-partisan.  \nAn educated voter makes good decisions. Come and learn more about your local elections. Your Vote is your Voice!
URL:https://lwvrocklandcounty.org/events/candidates-forum-october-22nd/
END:VEVENT
BEGIN:VEVENT
DTSTART;VALUE=DATE:20230919
DTEND;VALUE=DATE:20230920
DTSTAMP:20260419T192213
CREATED:20230912T144635Z
LAST-MODIFIED:20230912T144908Z
UID:4109-1695081600-1695167999@lwvrocklandcounty.org
SUMMARY:National Voter Registration Day
DESCRIPTION:This year we will be registering people at the following 3 locations: \n\nRockland Community College\nTime: 11:00 a.m. – 2:00 p.m.\nLocation: Hawk’s Nest Cafe –  On the 1st floor in Student Union\n\n\nDominican University\nTime: 10:00 a.m.- 2:00 p.m.\nLocation: Granito Center Building\n\n\nSt. Thomas Aquinas College\nTime: 11:00 a.m. – 2:00 pm\nLoction: Upper Romano Center
URL:https://lwvrocklandcounty.org/events/national-voter-registration-day-september-19th/
END:VEVENT
BEGIN:VEVENT
DTSTART;VALUE=DATE:20221215
DTEND;VALUE=DATE:20221216
DTSTAMP:20260419T192213
CREATED:20220204T200533Z
LAST-MODIFIED:20220204T200533Z
UID:3426-1671062400-1671148799@lwvrocklandcounty.org
SUMMARY:Bill of Rights Day
DESCRIPTION:
URL:https://lwvrocklandcounty.org/events/bill-of-rights-day/
END:VEVENT
BEGIN:VEVENT
DTSTART;VALUE=DATE:20221108
DTEND;VALUE=DATE:20221109
DTSTAMP:20260419T192213
CREATED:20220204T200435Z
LAST-MODIFIED:20220204T200435Z
UID:3424-1667865600-1667951999@lwvrocklandcounty.org
SUMMARY:Election Day
DESCRIPTION:
URL:https://lwvrocklandcounty.org/events/election-day/
END:VEVENT
BEGIN:VEVENT
DTSTART;VALUE=DATE:20221024
DTEND;VALUE=DATE:20221025
DTSTAMP:20260419T192213
CREATED:20220204T200235Z
LAST-MODIFIED:20220204T200319Z
UID:3422-1666569600-1666655999@lwvrocklandcounty.org
SUMMARY:United Nations Day
DESCRIPTION:
URL:https://lwvrocklandcounty.org/events/united-nations-day/
END:VEVENT
BEGIN:VEVENT
DTSTART;VALUE=DATE:20221001
DTEND;VALUE=DATE:20221002
DTSTAMP:20260419T192213
CREATED:20220204T200112Z
LAST-MODIFIED:20220204T200112Z
UID:3420-1664582400-1664668799@lwvrocklandcounty.org
SUMMARY:Voter Education Month
DESCRIPTION:
URL:https://lwvrocklandcounty.org/events/voter-education-month/
END:VEVENT
BEGIN:VEVENT
DTSTART;VALUE=DATE:20220920
DTEND;VALUE=DATE:20220921
DTSTAMP:20260419T192213
CREATED:20220204T195957Z
LAST-MODIFIED:20220204T195957Z
UID:3418-1663632000-1663718399@lwvrocklandcounty.org
SUMMARY:National Voter Registration Day
DESCRIPTION:
URL:https://lwvrocklandcounty.org/events/national-voter-registration-day/
END:VEVENT
BEGIN:VEVENT
DTSTART;VALUE=DATE:20220917
DTEND;VALUE=DATE:20220918
DTSTAMP:20260419T192213
CREATED:20220205T133240Z
LAST-MODIFIED:20220205T133240Z
UID:3457-1663372800-1663459199@lwvrocklandcounty.org
SUMMARY:Constitution Day
DESCRIPTION:
URL:https://lwvrocklandcounty.org/events/constitution-day/
END:VEVENT
BEGIN:VEVENT
DTSTART;TZID=America/New_York:20220801T190000
DTEND;TZID=America/New_York:20220801T210000
DTSTAMP:20260419T192213
CREATED:20220722T142230Z
LAST-MODIFIED:20220722T152532Z
UID:3749-1659380400-1659387600@lwvrocklandcounty.org
SUMMARY:Join Us - Virtual Democratic Primary Candidate Forum District 17
DESCRIPTION:U.S. Congressional District 17 Democratic Candidates\nMs. Alessandra Biaggi\nMr. Sean Patrick Maloney\n  \nREGISTER HERE \nSUBMIT A QUESTION FOR THE CANDIDATES\n \nFIND YOUR DISTRICT\nDo you know your voting district? They could be newly redistricted. \n\nHosted by the Leagues of Women Voters of Westchester\, Rockland\, Putnam\, and Dutchess Counties
URL:https://lwvrocklandcounty.org/events/dem-congressional-district-17/
END:VEVENT
BEGIN:VEVENT
DTSTART;TZID=America/New_York:20220728T190000
DTEND;TZID=America/New_York:20220728T210000
DTSTAMP:20260419T192213
CREATED:20220722T151707Z
LAST-MODIFIED:20220722T152619Z
UID:3770-1659034800-1659042000@lwvrocklandcounty.org
SUMMARY:Virtual Republican Primary Candidate Forum - Join Us
DESCRIPTION:U.S. Congressional District 17 Republican Candidates\nMr. Charles J. Falciglia\nMr. William G. Faulkner\nMr. Michael V. Lawler\nMr. Jack W. Schrepel \n  \nREGISTER HERE  \nSUBMIT A QUESTION FOR THE CANDIDATES \nFIND YOUR DISTRICT\nDo you know your voting district? They could be newly redistricted. \n\nHosted by the Leagues of Women Voters of Westchester\, Rockland\, Putnam\, and Dutchess Counties
URL:https://lwvrocklandcounty.org/events/virtual-republican-primary-candidate-forum-join-us/
END:VEVENT
BEGIN:VEVENT
DTSTART;VALUE=DATE:20220719
DTEND;VALUE=DATE:20220720
DTSTAMP:20260419T192213
CREATED:20220204T195611Z
LAST-MODIFIED:20220204T195654Z
UID:3414-1658188800-1658275199@lwvrocklandcounty.org
SUMMARY:Anniversary of the Seneca Falls Convention
DESCRIPTION:
URL:https://lwvrocklandcounty.org/events/anniversary-of-the-seneca-falls-convention/
END:VEVENT
BEGIN:VEVENT
DTSTART;VALUE=DATE:20220623
DTEND;VALUE=DATE:20220627
DTSTAMP:20260419T192213
CREATED:20220125T195543Z
LAST-MODIFIED:20220131T180237Z
UID:3219-1655942400-1656287999@lwvrocklandcounty.org
SUMMARY:2022 NATIONAL CONVENTION
DESCRIPTION:2022 NATIONAL CONVENTION\nDenver\, CO\nJune 23 – 26\n \nWe invite League members to our biennial national gathering to be held in Denver\, CO and online in 2022.
URL:https://lwvrocklandcounty.org/events/2022-national-convention/
LOCATION:2022 National Convention\, Denver\, Colorado
END:VEVENT
BEGIN:VEVENT
DTSTART;VALUE=DATE:20220623
DTEND;VALUE=DATE:20220624
DTSTAMP:20260419T192213
CREATED:20220204T195534Z
LAST-MODIFIED:20220204T195534Z
UID:3412-1655942400-1656028799@lwvrocklandcounty.org
SUMMARY:50th Anniversary of Title IX
DESCRIPTION:
URL:https://lwvrocklandcounty.org/events/50th-anniversary-of-title-ix/
END:VEVENT
BEGIN:VEVENT
DTSTART;VALUE=DATE:20220501
DTEND;VALUE=DATE:20220502
DTSTAMP:20260419T192213
CREATED:20220204T195305Z
LAST-MODIFIED:20220204T195305Z
UID:3410-1651363200-1651449599@lwvrocklandcounty.org
SUMMARY:Law Day
DESCRIPTION:
URL:https://lwvrocklandcounty.org/events/law-day/
END:VEVENT
END:VCALENDAR