BEGIN:VCALENDAR
VERSION:2.0
PRODID:-//LWV of Rockland County - ECPv6.15.20//NONSGML v1.0//EN
CALSCALE:GREGORIAN
METHOD:PUBLISH
X-WR-CALNAME:LWV of Rockland County
X-ORIGINAL-URL:https://lwvrocklandcounty.org
X-WR-CALDESC:Events for LWV of Rockland County
REFRESH-INTERVAL;VALUE=DURATION:PT1H
X-Robots-Tag:noindex
X-PUBLISHED-TTL:PT1H
BEGIN:VTIMEZONE
TZID:America/New_York
BEGIN:DAYLIGHT
TZOFFSETFROM:-0500
TZOFFSETTO:-0400
TZNAME:EDT
DTSTART:20210314T070000
END:DAYLIGHT
BEGIN:STANDARD
TZOFFSETFROM:-0400
TZOFFSETTO:-0500
TZNAME:EST
DTSTART:20211107T060000
END:STANDARD
BEGIN:DAYLIGHT
TZOFFSETFROM:-0500
TZOFFSETTO:-0400
TZNAME:EDT
DTSTART:20220313T070000
END:DAYLIGHT
BEGIN:STANDARD
TZOFFSETFROM:-0400
TZOFFSETTO:-0500
TZNAME:EST
DTSTART:20221106T060000
END:STANDARD
BEGIN:DAYLIGHT
TZOFFSETFROM:-0500
TZOFFSETTO:-0400
TZNAME:EDT
DTSTART:20230312T070000
END:DAYLIGHT
BEGIN:STANDARD
TZOFFSETFROM:-0400
TZOFFSETTO:-0500
TZNAME:EST
DTSTART:20231105T060000
END:STANDARD
END:VTIMEZONE
BEGIN:VEVENT
DTSTART;VALUE=DATE:20220226
DTEND;VALUE=DATE:20220227
DTSTAMP:20260420T015432
CREATED:20220204T203244Z
LAST-MODIFIED:20220207T180802Z
UID:3436-1645833600-1645919999@lwvrocklandcounty.org
SUMMARY:AAUW Diversity Brunch
DESCRIPTION:Saturday\, February 26\n11:00 – 12:30\n \n\nLeague of Women Voters of Rockland County is delighted to co-sponsor the Diversity brunch. \nEvent Flyer\nRegister here
URL:https://lwvrocklandcounty.org/events/league-dei-luncheon/
END:VEVENT
BEGIN:VEVENT
DTSTART;VALUE=DATE:20220214
DTEND;VALUE=DATE:20220215
DTSTAMP:20260420T015432
CREATED:20220126T210631Z
LAST-MODIFIED:20220126T211622Z
UID:3249-1644796800-1644883199@lwvrocklandcounty.org
SUMMARY:League of Women Voters US Birthday
DESCRIPTION:
URL:https://lwvrocklandcounty.org/events/league-of-women-voters-us-birthday/
END:VEVENT
BEGIN:VEVENT
DTSTART;VALUE=DATE:20220204
DTEND;VALUE=DATE:20220205
DTSTAMP:20260420T015432
CREATED:20220204T195734Z
LAST-MODIFIED:20220205T154606Z
UID:3416-1643932800-1644019199@lwvrocklandcounty.org
SUMMARY:Women’s Equality Day
DESCRIPTION:Anniversary of the Passage of the 19th Amendment
URL:https://lwvrocklandcounty.org/events/womens-equality-day/
END:VEVENT
BEGIN:VEVENT
DTSTART;VALUE=DATE:20220201
DTEND;VALUE=DATE:20220202
DTSTAMP:20260420T015432
CREATED:20220126T210015Z
LAST-MODIFIED:20220126T210752Z
UID:3245-1643673600-1643759999@lwvrocklandcounty.org
SUMMARY:Black History Month
DESCRIPTION:
URL:https://lwvrocklandcounty.org/events/black-history-month/
END:VEVENT
END:VCALENDAR