BEGIN:VCALENDAR
VERSION:2.0
PRODID:-//LWV of Rockland County - ECPv6.15.20//NONSGML v1.0//EN
CALSCALE:GREGORIAN
METHOD:PUBLISH
X-ORIGINAL-URL:https://lwvrocklandcounty.org
X-WR-CALDESC:Events for LWV of Rockland County
REFRESH-INTERVAL;VALUE=DURATION:PT1H
X-Robots-Tag:noindex
X-PUBLISHED-TTL:PT1H
BEGIN:VTIMEZONE
TZID:America/New_York
BEGIN:DAYLIGHT
TZOFFSETFROM:-0500
TZOFFSETTO:-0400
TZNAME:EDT
DTSTART:20210314T070000
END:DAYLIGHT
BEGIN:STANDARD
TZOFFSETFROM:-0400
TZOFFSETTO:-0500
TZNAME:EST
DTSTART:20211107T060000
END:STANDARD
BEGIN:DAYLIGHT
TZOFFSETFROM:-0500
TZOFFSETTO:-0400
TZNAME:EDT
DTSTART:20220313T070000
END:DAYLIGHT
BEGIN:STANDARD
TZOFFSETFROM:-0400
TZOFFSETTO:-0500
TZNAME:EST
DTSTART:20221106T060000
END:STANDARD
BEGIN:DAYLIGHT
TZOFFSETFROM:-0500
TZOFFSETTO:-0400
TZNAME:EDT
DTSTART:20230312T070000
END:DAYLIGHT
BEGIN:STANDARD
TZOFFSETFROM:-0400
TZOFFSETTO:-0500
TZNAME:EST
DTSTART:20231105T060000
END:STANDARD
END:VTIMEZONE
BEGIN:VEVENT
DTSTART;VALUE=DATE:20220301
DTEND;VALUE=DATE:20220302
DTSTAMP:20260420T193650
CREATED:20220126T210956Z
LAST-MODIFIED:20220126T210956Z
UID:3252-1646092800-1646179199@lwvrocklandcounty.org
SUMMARY:Women’s History Month
DESCRIPTION:
URL:https://lwvrocklandcounty.org/events/womens-history-month/
LOCATION:NY
END:VEVENT
BEGIN:VEVENT
DTSTART;VALUE=DATE:20220308
DTEND;VALUE=DATE:20220309
DTSTAMP:20260420T193650
CREATED:20220126T212041Z
LAST-MODIFIED:20220126T212041Z
UID:3256-1646697600-1646783999@lwvrocklandcounty.org
SUMMARY:International Women’s Day
DESCRIPTION:
URL:https://lwvrocklandcounty.org/events/international-womens-day-2/
LOCATION:NY
END:VEVENT
BEGIN:VEVENT
DTSTART;VALUE=DATE:20220316
DTEND;VALUE=DATE:20220317
DTSTAMP:20260420T193650
CREATED:20220126T212150Z
LAST-MODIFIED:20220126T212150Z
UID:3258-1647388800-1647475199@lwvrocklandcounty.org
SUMMARY:Freedom of Information Day
DESCRIPTION:
URL:https://lwvrocklandcounty.org/events/freedom-of-information-day/
LOCATION:NY
END:VEVENT
BEGIN:VEVENT
DTSTART;VALUE=DATE:20220326
DTEND;VALUE=DATE:20220327
DTSTAMP:20260420T193650
CREATED:20220205T113803Z
LAST-MODIFIED:20220205T154927Z
UID:3453-1648252800-1648339199@lwvrocklandcounty.org
SUMMARY:AAUW Women in Education Leadership
DESCRIPTION:AAUW WOMEN IN EDUCATION LEADERSHIP\nCosponsored LWV of Rockland County\nSaturday\, March 26th at 2:00 pm\n \n\nAAUW will host a panel of four exceptional women who have been notable leaders in various venues of Education Administration in and around New York state.  Please join us for an afternoon of discussion on the struggles of the past\, challenges of the present\, and projections of future of education in America.
URL:https://lwvrocklandcounty.org/events/women-in-education-leadership-2/
LOCATION:NY
END:VEVENT
END:VCALENDAR