BEGIN:VCALENDAR
VERSION:2.0
PRODID:-//LWV of Rockland County - ECPv6.15.20//NONSGML v1.0//EN
CALSCALE:GREGORIAN
METHOD:PUBLISH
X-WR-CALNAME:LWV of Rockland County
X-ORIGINAL-URL:https://lwvrocklandcounty.org
X-WR-CALDESC:Events for LWV of Rockland County
REFRESH-INTERVAL;VALUE=DURATION:PT1H
X-Robots-Tag:noindex
X-PUBLISHED-TTL:PT1H
BEGIN:VTIMEZONE
TZID:America/New_York
BEGIN:DAYLIGHT
TZOFFSETFROM:-0500
TZOFFSETTO:-0400
TZNAME:EDT
DTSTART:20210314T070000
END:DAYLIGHT
BEGIN:STANDARD
TZOFFSETFROM:-0400
TZOFFSETTO:-0500
TZNAME:EST
DTSTART:20211107T060000
END:STANDARD
BEGIN:DAYLIGHT
TZOFFSETFROM:-0500
TZOFFSETTO:-0400
TZNAME:EDT
DTSTART:20220313T070000
END:DAYLIGHT
BEGIN:STANDARD
TZOFFSETFROM:-0400
TZOFFSETTO:-0500
TZNAME:EST
DTSTART:20221106T060000
END:STANDARD
BEGIN:DAYLIGHT
TZOFFSETFROM:-0500
TZOFFSETTO:-0400
TZNAME:EDT
DTSTART:20230312T070000
END:DAYLIGHT
BEGIN:STANDARD
TZOFFSETFROM:-0400
TZOFFSETTO:-0500
TZNAME:EST
DTSTART:20231105T060000
END:STANDARD
END:VTIMEZONE
BEGIN:VEVENT
DTSTART;VALUE=DATE:20220623
DTEND;VALUE=DATE:20220624
DTSTAMP:20260420T100311
CREATED:20220204T195534Z
LAST-MODIFIED:20220204T195534Z
UID:3412-1655942400-1656028799@lwvrocklandcounty.org
SUMMARY:50th Anniversary of Title IX
DESCRIPTION:
URL:https://lwvrocklandcounty.org/events/50th-anniversary-of-title-ix/
LOCATION:NY
END:VEVENT
BEGIN:VEVENT
DTSTART;VALUE=DATE:20220623
DTEND;VALUE=DATE:20220627
DTSTAMP:20260420T100311
CREATED:20220125T195543Z
LAST-MODIFIED:20220131T180237Z
UID:3219-1655942400-1656287999@lwvrocklandcounty.org
SUMMARY:2022 NATIONAL CONVENTION
DESCRIPTION:2022 NATIONAL CONVENTION\nDenver\, CO\nJune 23 – 26\n \nWe invite League members to our biennial national gathering to be held in Denver\, CO and online in 2022.
URL:https://lwvrocklandcounty.org/events/2022-national-convention/
LOCATION:2022 National Convention\, Denver\, Colorado
END:VEVENT
END:VCALENDAR