BEGIN:VCALENDAR
VERSION:2.0
PRODID:-//LWV of Rockland County - ECPv6.15.20//NONSGML v1.0//EN
CALSCALE:GREGORIAN
METHOD:PUBLISH
X-ORIGINAL-URL:https://lwvrocklandcounty.org
X-WR-CALDESC:Events for LWV of Rockland County
REFRESH-INTERVAL;VALUE=DURATION:PT1H
X-Robots-Tag:noindex
X-PUBLISHED-TTL:PT1H
BEGIN:VTIMEZONE
TZID:America/New_York
BEGIN:DAYLIGHT
TZOFFSETFROM:-0500
TZOFFSETTO:-0400
TZNAME:EDT
DTSTART:20220313T070000
END:DAYLIGHT
BEGIN:STANDARD
TZOFFSETFROM:-0400
TZOFFSETTO:-0500
TZNAME:EST
DTSTART:20221106T060000
END:STANDARD
BEGIN:DAYLIGHT
TZOFFSETFROM:-0500
TZOFFSETTO:-0400
TZNAME:EDT
DTSTART:20230312T070000
END:DAYLIGHT
BEGIN:STANDARD
TZOFFSETFROM:-0400
TZOFFSETTO:-0500
TZNAME:EST
DTSTART:20231105T060000
END:STANDARD
BEGIN:DAYLIGHT
TZOFFSETFROM:-0500
TZOFFSETTO:-0400
TZNAME:EDT
DTSTART:20240310T070000
END:DAYLIGHT
BEGIN:STANDARD
TZOFFSETFROM:-0400
TZOFFSETTO:-0500
TZNAME:EST
DTSTART:20241103T060000
END:STANDARD
END:VTIMEZONE
BEGIN:VEVENT
DTSTART;VALUE=DATE:20231022
DTEND;VALUE=DATE:20231023
DTSTAMP:20260421T134039
CREATED:20230912T151849Z
LAST-MODIFIED:20231013T191923Z
UID:4112-1697932800-1698019199@lwvrocklandcounty.org
SUMMARY:Candidates Forum
DESCRIPTION:CANDIDATE FORUM FLYER \nAddress: \nJCC ROCKLAND\n450 West Nyack Road\nWest Nyack\, NY 10994 \nDebates & Event\n \n\n2-2:30 PM: Debate for Clarkstown Town Supervisor\nJustin Sweet Vs. George Hoehmann\n\n\n3-4 PM: Candidates Fair for The Rockland County\nLegislative District Candidates\n\n*LWV and all Co-sponsors are non-partisan.  \nAn educated voter makes good decisions. Come and learn more about your local elections. Your Vote is your Voice!
URL:https://lwvrocklandcounty.org/events/candidates-forum-october-22nd/
LOCATION:NY
END:VEVENT
END:VCALENDAR